BEGIN:VCALENDAR
VERSION:2.0
PRODID:DPCALENDAR
CALSCALE:GREGORIAN
BEGIN:VTIMEZONE
TZID:UTC
X-MICROSOFT-CDO-TZID:0
END:VTIMEZONE
X-WR-TIMEZONE:UTC
BEGIN:VEVENT
DTSTART;TZID=UTC:20170915T180000
DTEND;TZID=UTC:20170915T220000
UID:8B859BE3-FB1C-4261-9888-D4F9F0844A47
SUMMARY:Tierschutz im Zoofachhandel
CREATED:20170810T103800Z
DTSTAMP:20170810T103800Z
DESCRIPTION:
X-ALT-DESC;FMTTYPE=text/html:
X-ACCESS:1
X-HITS:145
X-URL:https://www.bna-ev.de/index.php?option=com_dpcalendar&view=event&id=73&Itemid=218
X-COLOR:01A54E
X-SHOW-END-TIME:1
END:VEVENT
BEGIN:VEVENT
DTSTART;TZID=UTC:20170916T083000
DTEND;TZID=UTC:20170916T200000
UID:1B86C18F-A91B-4DA3-99EF-3F8E7C9FD035
SUMMARY:Tierschutz im Zoofachhandel
CREATED:20170810T103846Z
DTSTAMP:20170810T103846Z
DESCRIPTION:
X-ALT-DESC;FMTTYPE=text/html:
X-ACCESS:1
X-HITS:99
X-URL:https://www.bna-ev.de/index.php?option=com_dpcalendar&view=event&id=74&Itemid=218
X-COLOR:01A54E
X-SHOW-END-TIME:1
END:VEVENT
BEGIN:VEVENT
DTSTART;TZID=UTC:20170917T090000
DTEND;TZID=UTC:20170917T133000
UID:A0B270FB-3AB4-440F-AF86-7B9161C258AE
SUMMARY:Tierschutz im Zoofachhandel
CREATED:20170810T103917Z
DTSTAMP:20170810T103917Z
DESCRIPTION:
X-ALT-DESC;FMTTYPE=text/html:
X-ACCESS:1
X-HITS:32
X-URL:https://www.bna-ev.de/index.php?option=com_dpcalendar&view=event&id=75&Itemid=218
X-COLOR:01A54E
X-SHOW-END-TIME:1
END:VEVENT
BEGIN:VEVENT
DTSTART;TZID=UTC:20180728T093000
DTEND;TZID=UTC:20180728T170000
UID:E5760DB7-7CBF-4A23-A4E4-8FF280C0680F
SUMMARY:Haltung von Papageienvögeln in Tier- und Vogelparks
CREATED:20180403T073011Z
DTSTAMP:20180403T073011Z
DESCRIPTION:
X-ALT-DESC;FMTTYPE=text/html:
LOCATION:Ostendstraße 4\, 76707 Hambrücken\, Baden-Württemberg
GEO:49.18747820;8.55627560
X-ACCESS:1
X-HITS:46
X-URL:https://www.bna-ev.de/index.php?option=com_dpcalendar&view=event&id=142&Itemid=218
X-COLOR:0C961E
X-SHOW-END-TIME:1
END:VEVENT
BEGIN:VEVENT
DTSTART;TZID=UTC:20180921T180000
DTEND;TZID=UTC:20180921T223000
UID:3B0428C8-46E3-4DBC-82D5-D1C145E93A21
SUMMARY:Tierschutz in Heimtierhaltung & Zoofachhandel
CREATED:20180806T134915Z
DTSTAMP:20180806T134915Z
DESCRIPTION:
X-ALT-DESC;FMTTYPE=text/html:
LOCATION:Ostendstraße 4\, 76707 Hambrücken\, Baden-Württemberg
GEO:49.18747820;8.55627560
LAST-MODIFIED:20180806T135035Z
SEQUENCE:80
X-ACCESS:1
X-HITS:39
X-URL:https://www.bna-ev.de/index.php?option=com_dpcalendar&view=event&id=144&Itemid=218
X-COLOR:0C961E
X-SHOW-END-TIME:1
END:VEVENT
BEGIN:VEVENT
DTSTART;TZID=UTC:20180922T090000
DTEND;TZID=UTC:20180922T223000
UID:E3A2BBAC-C301-438E-9D3D-EE1A792D5340
SUMMARY:Tierschutz in Heimtierhaltung & Zoofachhandel
CREATED:20180806T134955Z
DTSTAMP:20180806T134955Z
DESCRIPTION:
X-ALT-DESC;FMTTYPE=text/html:
X-ACCESS:1
X-HITS:27
X-URL:https://www.bna-ev.de/index.php?option=com_dpcalendar&view=event&id=145&Itemid=218
X-COLOR:0C961E
X-SHOW-END-TIME:1
END:VEVENT
BEGIN:VEVENT
DTSTART;TZID=UTC:20180923T090000
DTEND;TZID=UTC:20180923T130000
UID:1D7BB037-6842-455D-9118-3682AFC24C55
SUMMARY:Tierschutz in Heimtierhaltung & Zoofachhandel
CREATED:20180806T135023Z
DTSTAMP:20180806T135023Z
DESCRIPTION:
X-ALT-DESC;FMTTYPE=text/html:
X-ACCESS:1
X-HITS:32
X-URL:https://www.bna-ev.de/index.php?option=com_dpcalendar&view=event&id=146&Itemid=218
X-COLOR:0C961E
X-SHOW-END-TIME:1
END:VEVENT
BEGIN:VEVENT
DTSTART;TZID=UTC:20180926T093000
DTEND;TZID=UTC:20180926T170000
UID:D40D466A-88AD-43D7-BBB3-3F584DAB9024
SUMMARY:Meerwasserchemie - Theorie und Praxis
CREATED:20180403T073121Z
DTSTAMP:20180403T073121Z
DESCRIPTION:
X-ALT-DESC;FMTTYPE=text/html:
LOCATION:Ostendstraße 4\, 76707 Hambrücken\, Baden-Württemberg
GEO:49.18747820;8.55627560
X-ACCESS:1
X-HITS:81
X-URL:https://www.bna-ev.de/index.php?option=com_dpcalendar&view=event&id=143&Itemid=218
X-COLOR:0C961E
X-SHOW-END-TIME:1
END:VEVENT
BEGIN:VEVENT
DTSTART;VALUE=DATE:20190330
DTEND;VALUE=DATE:20190331
UID:89D0110D-09E9-4DE4-B5E5-B99D876FA883
SUMMARY:Vergesellschaftung von Vögeln in Tropenhallen / Haltung & Zucht von (Zwerg)Flamingos
CREATED:20190123T084522Z
DTSTAMP:20190123T084522Z
DESCRIPTION:
X-ALT-DESC;FMTTYPE=text/html:
LOCATION:Ostendstraße 4\, 76707 Hambrücken\, Baden-Württemberg
GEO:49.18747820;8.55627560
LAST-MODIFIED:20190205T134102Z
SEQUENCE:1140940
X-ACCESS:1
X-HITS:480
X-URL:https://www.bna-ev.de/index.php?option=com_dpcalendar&view=event&id=177&Itemid=218
X-COLOR:01A54E
X-SHOW-END-TIME:0
END:VEVENT
BEGIN:VEVENT
DTSTART;VALUE=DATE:20190914
DTEND;VALUE=DATE:20190915
UID:4B71C810-10FA-49DA-8DD6-69D7B4C9520E
SUMMARY:BNA-Fachseminar "Papageienhaltung" 
CREATED:20190222T140629Z
DTSTAMP:20190222T140629Z
DESCRIPTION:
X-ALT-DESC;FMTTYPE=text/html:
LAST-MODIFIED:20190222T141245Z
SEQUENCE:376
X-ACCESS:1
X-HITS:45
X-URL:https://www.bna-ev.de/index.php?option=com_dpcalendar&view=event&id=181&Itemid=218
X-COLOR:01A54E
X-SHOW-END-TIME:0
END:VEVENT
END:VCALENDAR