BEGIN:VCALENDAR
VERSION:2.0
PRODID:DPCALENDAR
CALSCALE:GREGORIAN
BEGIN:VTIMEZONE
TZID:UTC
X-MICROSOFT-CDO-TZID:0
END:VTIMEZONE
X-WR-TIMEZONE:UTC
BEGIN:VEVENT
DTSTART;VALUE=DATE:20170501
DTEND;VALUE=DATE:20170502
UID:1AF90153-1B99-4B09-98DE-F512A5108E8A
SUMMARY:Tag der Arbeit
CREATED:20170508T142851Z
DTSTAMP:20170508T142851Z
DESCRIPTION:
X-ALT-DESC;FMTTYPE=text/html:
X-ACCESS:1
X-HITS:20
X-URL:https://www.bna-ev.de/index.php?option=com_dpcalendar&view=event&id=4&Itemid=218
X-COLOR:FFA42E
X-SHOW-END-TIME:1
END:VEVENT
BEGIN:VEVENT
DTSTART;VALUE=DATE:20170525
DTEND;VALUE=DATE:20170526
UID:C11B7E3C-9250-4908-93EE-CEC9934059C7
SUMMARY:Christi Himmelfahrt
CREATED:20170508T143009Z
DTSTAMP:20170508T143009Z
DESCRIPTION:
X-ALT-DESC;FMTTYPE=text/html:
X-ACCESS:1
X-HITS:145
X-URL:https://www.bna-ev.de/index.php?option=com_dpcalendar&view=event&id=5&Itemid=218
X-COLOR:FFBE4F
X-SHOW-END-TIME:1
END:VEVENT
BEGIN:VEVENT
DTSTART;VALUE=DATE:20170605
DTEND;VALUE=DATE:20170606
UID:0A455E20-9CE6-482D-AFF1-20C3F526BAF8
SUMMARY:Pfingstmontag
CREATED:20170508T143009Z
DTSTAMP:20170508T143009Z
DESCRIPTION:
X-ALT-DESC;FMTTYPE=text/html:
LAST-MODIFIED:20170510T110135Z
SEQUENCE:160286
X-ACCESS:1
X-HITS:24
X-URL:https://www.bna-ev.de/index.php?option=com_dpcalendar&view=event&id=6&Itemid=218
X-COLOR:FFBE4F
X-SHOW-END-TIME:1
END:VEVENT
BEGIN:VEVENT
DTSTART;VALUE=DATE:20170615
DTEND;VALUE=DATE:20170616
UID:C54C7EDD-03E8-4556-AD0C-81998DC78E6E
SUMMARY:Fronleichnam
CREATED:20170508T143009Z
DTSTAMP:20170508T143009Z
DESCRIPTION:
X-ALT-DESC;FMTTYPE=text/html:
LAST-MODIFIED:20170510T110256Z
SEQUENCE:160367
X-ACCESS:1
X-HITS:30
X-URL:https://www.bna-ev.de/index.php?option=com_dpcalendar&view=event&id=7&Itemid=218
X-COLOR:FFBE4F
X-SHOW-END-TIME:1
END:VEVENT
BEGIN:VEVENT
DTSTART;VALUE=DATE:20171003
DTEND;VALUE=DATE:20171004
UID:DED48DCD-6744-45C2-873A-7975C9EFF654
SUMMARY:Tag der Deutschen Einheit
CREATED:20170508T143009Z
DTSTAMP:20170508T143009Z
DESCRIPTION:
X-ALT-DESC;FMTTYPE=text/html:
LAST-MODIFIED:20170510T114357Z
SEQUENCE:162828
X-ACCESS:1
X-HITS:142
X-URL:https://www.bna-ev.de/index.php?option=com_dpcalendar&view=event&id=8&Itemid=218
X-COLOR:FFBE4F
X-SHOW-END-TIME:1
END:VEVENT
BEGIN:VEVENT
DTSTART;VALUE=DATE:20171031
DTEND;VALUE=DATE:20171101
UID:EF764D9B-CDFB-4CDB-B713-794E34568B89
SUMMARY:Reformationstag
CREATED:20170510T114446Z
DTSTAMP:20170510T114446Z
DESCRIPTION:
X-ALT-DESC;FMTTYPE=text/html:
X-ACCESS:1
X-HITS:145
X-URL:https://www.bna-ev.de/index.php?option=com_dpcalendar&view=event&id=9&Itemid=218
X-COLOR:FFBE4F
X-SHOW-END-TIME:1
END:VEVENT
BEGIN:VEVENT
DTSTART;VALUE=DATE:20171101
DTEND;VALUE=DATE:20171102
UID:6575BEE8-33C4-4BA8-A0F7-232CC34AAC0D
SUMMARY:Allerheiligen
CREATED:20170510T114529Z
DTSTAMP:20170510T114529Z
DESCRIPTION:
X-ALT-DESC;FMTTYPE=text/html:
X-ACCESS:1
X-HITS:123
X-URL:https://www.bna-ev.de/index.php?option=com_dpcalendar&view=event&id=10&Itemid=218
X-COLOR:FFBE4F
X-SHOW-END-TIME:1
END:VEVENT
BEGIN:VEVENT
DTSTART;VALUE=DATE:20171225
DTEND;VALUE=DATE:20171226
UID:2111A57E-8514-4F0A-B608-6E69E1908C71
SUMMARY:1. Weihnachtsfeiertag
CREATED:20170510T114610Z
DTSTAMP:20170510T114610Z
DESCRIPTION:
X-ALT-DESC;FMTTYPE=text/html:
X-ACCESS:1
X-HITS:33
X-URL:https://www.bna-ev.de/index.php?option=com_dpcalendar&view=event&id=11&Itemid=218
X-COLOR:FFBE4F
X-SHOW-END-TIME:1
END:VEVENT
BEGIN:VEVENT
DTSTART;VALUE=DATE:20171226
DTEND;VALUE=DATE:20171227
UID:21909238-61C9-4494-B54F-67244509863A
SUMMARY:2. Weihnachtsfeiertag
CREATED:20170510T114655Z
DTSTAMP:20170510T114655Z
DESCRIPTION:
X-ALT-DESC;FMTTYPE=text/html:
LAST-MODIFIED:20171123T134614Z
SEQUENCE:17027959
X-ACCESS:1
X-HITS:102
X-URL:https://www.bna-ev.de/index.php?option=com_dpcalendar&view=event&id=12&Itemid=218
X-COLOR:FFBE4F
X-SHOW-END-TIME:1
END:VEVENT
BEGIN:VEVENT
DTSTART;VALUE=DATE:20180101
DTEND;VALUE=DATE:20180102
UID:02E47682-D3A0-4C22-A1EA-66EF56DDAF72
SUMMARY:Neujahr
CREATED:20171123T134629Z
DTSTAMP:20171123T134629Z
DESCRIPTION:
X-ALT-DESC;FMTTYPE=text/html:
X-ACCESS:1
X-HITS:30
X-URL:https://www.bna-ev.de/index.php?option=com_dpcalendar&view=event&id=76&Itemid=218
X-COLOR:FFBE4F
X-SHOW-END-TIME:1
END:VEVENT
BEGIN:VEVENT
DTSTART;VALUE=DATE:20180106
DTEND;VALUE=DATE:20180107
UID:8C8C7562-D5FC-49E6-9D8E-E125405258C2
SUMMARY:Heilige Drei Könige
CREATED:20171123T134658Z
DTSTAMP:20171123T134658Z
DESCRIPTION:
X-ALT-DESC;FMTTYPE=text/html:
X-ACCESS:1
X-HITS:136
X-URL:https://www.bna-ev.de/index.php?option=com_dpcalendar&view=event&id=77&Itemid=218
X-COLOR:FFBE4F
X-SHOW-END-TIME:1
END:VEVENT
BEGIN:VEVENT
DTSTART;VALUE=DATE:20180330
DTEND;VALUE=DATE:20180331
UID:930D4207-C57F-48E1-8B8C-683CC81D8262
SUMMARY:Karfreitag
CREATED:20171123T134728Z
DTSTAMP:20171123T134728Z
DESCRIPTION:
X-ALT-DESC;FMTTYPE=text/html:
X-ACCESS:1
X-HITS:26
X-URL:https://www.bna-ev.de/index.php?option=com_dpcalendar&view=event&id=78&Itemid=218
X-COLOR:FFBE4F
X-SHOW-END-TIME:1
END:VEVENT
BEGIN:VEVENT
DTSTART;VALUE=DATE:20180402
DTEND;VALUE=DATE:20180403
UID:3D92DEBB-A664-4328-A17A-65F4848C8AAB
SUMMARY:Ostermontag
CREATED:20171123T134748Z
DTSTAMP:20171123T134748Z
DESCRIPTION:
X-ALT-DESC;FMTTYPE=text/html:
X-ACCESS:1
X-HITS:24
X-URL:https://www.bna-ev.de/index.php?option=com_dpcalendar&view=event&id=79&Itemid=218
X-COLOR:FFBE4F
X-SHOW-END-TIME:1
END:VEVENT
BEGIN:VEVENT
DTSTART;VALUE=DATE:20180501
DTEND;VALUE=DATE:20180502
UID:EF317F65-3694-41C0-BB5B-B63FFF20EBB9
SUMMARY:Tag der Arbeit
CREATED:20171123T134814Z
DTSTAMP:20171123T134814Z
DESCRIPTION:
X-ALT-DESC;FMTTYPE=text/html:
X-ACCESS:1
X-HITS:152
X-URL:https://www.bna-ev.de/index.php?option=com_dpcalendar&view=event&id=80&Itemid=218
X-COLOR:FFBE4F
X-SHOW-END-TIME:1
END:VEVENT
BEGIN:VEVENT
DTSTART;VALUE=DATE:20180510
DTEND;VALUE=DATE:20180511
UID:C81F306D-E29B-4F6B-A2A9-7EEE4287CD34
SUMMARY:Christi Himmelfahrt
CREATED:20171123T142109Z
DTSTAMP:20171123T142109Z
DESCRIPTION:
X-ALT-DESC;FMTTYPE=text/html:
X-ACCESS:1
X-HITS:38
X-URL:https://www.bna-ev.de/index.php?option=com_dpcalendar&view=event&id=81&Itemid=218
X-COLOR:FFBE4F
X-SHOW-END-TIME:1
END:VEVENT
BEGIN:VEVENT
DTSTART;VALUE=DATE:20180521
DTEND;VALUE=DATE:20180522
UID:7A30A154-4F27-419E-9EE4-76497F69B606
SUMMARY:Pfingstmontag
CREATED:20171123T142137Z
DTSTAMP:20171123T142137Z
DESCRIPTION:
X-ALT-DESC;FMTTYPE=text/html:
X-ACCESS:1
X-HITS:141
X-URL:https://www.bna-ev.de/index.php?option=com_dpcalendar&view=event&id=82&Itemid=218
X-COLOR:FFBE4F
X-SHOW-END-TIME:1
END:VEVENT
BEGIN:VEVENT
DTSTART;VALUE=DATE:20180531
DTEND;VALUE=DATE:20180601
UID:E5AC9DAC-C782-4048-BC95-2498B92C9F61
SUMMARY:Fronleichnam
CREATED:20171123T142225Z
DTSTAMP:20171123T142225Z
DESCRIPTION:
X-ALT-DESC;FMTTYPE=text/html:
X-ACCESS:1
X-HITS:143
X-URL:https://www.bna-ev.de/index.php?option=com_dpcalendar&view=event&id=83&Itemid=218
X-COLOR:FFBE4F
X-SHOW-END-TIME:1
END:VEVENT
BEGIN:VEVENT
DTSTART;VALUE=DATE:20181003
DTEND;VALUE=DATE:20181004
UID:2A616648-B7A5-4C8D-92F2-9F627AAF1C54
SUMMARY:Tag der Deutschen Einheit
CREATED:20171123T142252Z
DTSTAMP:20171123T142252Z
DESCRIPTION:
X-ALT-DESC;FMTTYPE=text/html:
X-ACCESS:1
X-HITS:142
X-URL:https://www.bna-ev.de/index.php?option=com_dpcalendar&view=event&id=84&Itemid=218
X-COLOR:FFBE4F
X-SHOW-END-TIME:1
END:VEVENT
BEGIN:VEVENT
DTSTART;VALUE=DATE:20181101
DTEND;VALUE=DATE:20181102
UID:FB62A333-B9EB-4B1A-83B4-E059832720A3
SUMMARY:Allerheiligen
CREATED:20171123T142314Z
DTSTAMP:20171123T142314Z
DESCRIPTION:
X-ALT-DESC;FMTTYPE=text/html:
X-ACCESS:1
X-HITS:139
X-URL:https://www.bna-ev.de/index.php?option=com_dpcalendar&view=event&id=85&Itemid=218
X-COLOR:FFBE4F
X-SHOW-END-TIME:1
END:VEVENT
BEGIN:VEVENT
DTSTART;VALUE=DATE:20181225
DTEND;VALUE=DATE:20181226
UID:A0677168-B7BD-49C2-A71F-B05CBD4F5953
SUMMARY:1. Weihnachtsfeiertag
CREATED:20171123T142332Z
DTSTAMP:20171123T142332Z
DESCRIPTION:
X-ALT-DESC;FMTTYPE=text/html:
X-ACCESS:1
X-HITS:38
X-URL:https://www.bna-ev.de/index.php?option=com_dpcalendar&view=event&id=86&Itemid=218
X-COLOR:FFBE4F
X-SHOW-END-TIME:1
END:VEVENT
BEGIN:VEVENT
DTSTART;VALUE=DATE:20181226
DTEND;VALUE=DATE:20181227
UID:9DE2EB72-8B16-4F57-BEBF-27052A7B8D6B
SUMMARY:2. Weihnachtsfeiertag
CREATED:20171123T142345Z
DTSTAMP:20171123T142345Z
DESCRIPTION:
X-ALT-DESC;FMTTYPE=text/html:
X-ACCESS:1
X-HITS:35
X-URL:https://www.bna-ev.de/index.php?option=com_dpcalendar&view=event&id=87&Itemid=218
X-COLOR:FFBE4F
X-SHOW-END-TIME:1
END:VEVENT
END:VCALENDAR